Workbook

Sheet INFORMACION GENERAL
A1: INFORMACIÓN GENERAL
A2: Fecha de Solicitud: | B2: 45664 | J2: 1 | K2: UNO
A3: No. De Agencia | B3: 171 | J3: 2 | K3: FLORIDA
A4: Agencia | B4: =VLOOKUP(B3,$J$2:$K$75,2,0) -> GAG AGENCIA CENTRAL | J4: 4 | K4: ROOSEVELT
A5: Nombredel Representante Legal: | B5: DORA PATRICIA JIMENEZ PINEDA | J5: 5 | K5: PRESIDENTA
A6: Edad (en años): | B6: 38 | J6: 6 | K6: TERMINAL
A7: Estado civil: | B7: CASADA | J7: 8 | K7: PETEN
A8: Dirección: | B8: 3RA. AVENIDA 54-7 COLONIA CASTAÑA, ZONA 11, GUATEMALA. | J8: 9 | K8: MAZATENANGO
A9: DPI del RL: | B9: 1642-15891-0101 | J9: 10 | K9: COATEPEQUE
A10: Extendido en el municipio de: | B10: VILLA NUEVA | J10: 12 | K10: SAN MARCOS
A11: Departamento: | B11: GUATEMALA | J11: 13 | K11: CHIQUIMULA
A12: NIT de la Empresa: | B12: 11426690-5 | J12: 15 | K12: COBAN
A13: Empresa Solicitante: | B13: GRUPO EXUMA, SOCIEDAD ANÓNIMA | J13: 16 | K13: QUICHE
A14: Dirección: | B14: AVENIDA HINCAPIE 15-75 ZONA 13, GUATEMALA | J14: 18 | K14: QUETZALTENANGO
A15: Fecha de Inicio de Operaciones: | B15: 44721 | J15: 20 | K15: SAN CRISTOBAL
A16: SOLICITUD DE CRÉDITO | E16: Elaborado por: | J16: 21 | K16: PLAZA SAN RAFAEL
A17: Monto Solicitado: | B17: 811650 | E17: Nombre | F17: Cristian Alejandro Gaitán Castro | K17: PETAPA
A18: Plazo Solicitado (en meses): | B18: 48 | E18: Puesto | F18: Asesor de Negocios | K18: GALERIAS PRIMMA
A19: Incremento de tasa ofrecido: | B19: 0.03 | E19: Agencia | F19: Agencia Central | K19: SAN BERNARDINO
A20: Tasa de interes anual: | B20: =+B19+B35 -> 0.111 | J20: 27 | K20: PACIFIC VILLA HERMOSA
A21: Tipo de amortización: | B21: PAGADERO MEDIANTE CAPITAL E INTERESES MENSUALES Y SALDO AL VENCIMIENTO
A22: Tasa por mora: | B22: =+B20+5% -> 0.161 | J22: 28 | K22: PASEO LAS PALMAS
A23: Tipo de Cuota: | B23: CUOTA SOBRESALDOS | J23: 32 | K23: POPTUN
A24: Destino de los fondos: | B24: CAPITAL DE TRABAJO | J24: 33 | K24: SAYAXCHE
A25: Fecha de vencimiento: | B25: 47125 | J25: 34 | K25: GENOVA
A26: Gastos Administrativos: | B26: =+B17*0.25% -> 2029.125 | E26: Autorizado por: | J26: 36 | K26: JALAPA
A27: Monto a financiar: | B27: =+B26+B17 -> 813679.12 | J27: 37 | K27: CHIMALTENANGO
A28: Máximo a ofrecer (90% con gastos administrativos) | B28: =+C30-C29 -> -1456907.8 | J28: 38 | K28: PUERTO SAN JOSE
A29: GARANTÍA | C29: =+B32*0.9 -> 1460559.2 | E29: Nombre | F29: ING. LUIS FERNANDO PELÁEZ GUERRA | J29: 39 | K29: JUTIAPA
A30: Tipo de Garantía: | B30: CERTIFICADO PLAZO FIJO | C30: =+C29*0.25% -> 3651.3981 | E30: Puesto | F30: GERENTE DE BANCA PERSONAS | J30: 40 | K30: RETALHULEU
A31: Cuenta | B31: 33-099-000329-0 | J31: 41 | K31: ANTIGUA
A32: Saldo: | B32: 1622843.6 | J32: 42 | K32: EXPRESS AÉREO
A33: Monto Máximo a Financiar: | B33: =+B32*0.9 -> 1460559.2
A34: Plazo: | B34: 12 meses | J34: 43 | K34: FINANZAS
A35: Tasa de Interés: | B35: 0.081 | J35: 49 | K35: SAN LUCAS
A36: Fecha de Vencimiento: | B36: 46001 | J36: 50 | K36: HUEHUETENANGO 5 CALLE
A37: Calificación del cliente | B37: A "DE RIESGO NORMAL" | F37: - | J37: 51 | K37: TRINIDAD COATEPEQUE
A38: Monto a desembolsar: | B38: =+B17 -> 811650 | F38: - | J38: 54 | K38: METROPLAZA
A39: Forma del desembolso (colocar núm. de cuenta) | B39: 08-099-000047-6 | J39: 55 | K39: GUALAN
J40: 56 | K40: SANTA LUCIA COTZ.
...

Sheet CUOTAS
B2: No tocar este cuadro | F2: =H7/12 -> 0.00925 | G2: =(H7/12+1)^F7 -> 1.5557521 | H2: =1-(1/G2) -> 0.35722406
D5: CUOTA NIVELADA | P5: CUOTA SOBRE SALDOS
D6: MONTO SOLICITADO | F6: PLAZO EN MESES | H6: TASA DE INTERÉS | I6: CUOTA | P6: MONTO SOLICITADO | Q6: PLAZO EN MESES | R6: TASA DE INTERÉS | S6: CUOTA | U6: 30
D7: =+'INFORMACION GENERAL'!B27 -> 813679.12 | F7: =+'INFORMACION GENERAL'!B18 -> 48 | H7: =+'INFORMACION GENERAL'!B20 -> 0.111 | I7: =D7*(F2/H2) -> 21069.499 | P7: =+D7 -> 813679.12 | Q7: =+F7 -> 48 | R7: =+H7 -> 0.111 | S7: =+Q14+R14 -> 24478.18
B9: NO. DE CUOTA | D9: CAPITAL | E9: INTERESES | H9: CUOTA NIVELADA | I9: SALDO CAPITAL | J9: CUOTA | K9: TASA | O9: NO DE CUOTA | P9: SALDO A CAPITAL | Q9: CAPITAL | R9: INTERESES | S9: CUOTA SOBRE SALDOS
K12: =H7 -> 0.111
B13: 0 | I13: =D7 -> 813679.12 | J13: =I7 -> 21069.499 | K13: =K12 -> 0.111 | O13: 0 | P13: =P7 -> 813679.12
B14: 1 | D14: =J13-F14 -> 13542.967 | F14: =(I13*K12)/12 -> 7526.5319 | H14: =D14+F14 -> 21069.499 | I14: =I13-D14 -> 800136.16 | J14: =J13 -> 21069.499 | K14: =K13 -> 0.111 | O14: 1 | P14: =P13-Q14 -> 796727.48 | Q14: =P7/Q7 -> 16951.648 | R14: =(((P13*$R$7/360))*$U$6) -> 7526.5319 | S14: =+Q14+R14 -> 24478.18
B15: =B14+1 -> 2 | D15: =J14-F15 -> 13668.239 | F15: =(I14*K13)/12 -> 7401.2595 | H15: =D15+F15 -> 21069.499 | I15: =I14-D15 -> 786467.92 | J15: =J14 -> 21069.499 | K15: =K14 -> 0.111 | O15: 2 | P15: =P14-Q15 -> 779775.83 | Q15: =Q14 -> 16951.648 | R15: =(((P14*$R$7/360))*$U$6) -> 7369.7292 | S15: =+Q15+R15 -> 24321.378
B16: =B15+1 -> 3 | D16: =J15-F16 -> 13794.671 | F16: =(I15*K14)/12 -> 7274.8282 | H16: =D16+F16 -> 21069.499 | I16: =I15-D16 -> 772673.25 | J16: =J15 -> 21069.499 | K16: =K15 -> 0.111 | O16: 3 | P16: =P15-Q16 -> 762824.18 | Q16: =Q15 -> 16951.648 | R16: =(((P15*$R$7/360))*$U$6) -> 7212.9264 | S16: =+Q16+R16 -> 24164.575
B17: =B16+1 -> 4 | D17: =J16-F17 -> 13922.271 | F17: =(I16*K15)/12 -> 7147.2275 | H17: =D17+F17 -> 21069.499 | I17: =I16-D17 -> 758750.98 | J17: =J16 -> 21069.499 | K17: =K16 -> 0.111 | O17: 4 | P17: =P16-Q17 -> 745872.53 | Q17: =Q16 -> 16951.648 | R17: =(((P16*$R$7/360))*$U$6) -> 7056.1237 | S17: =+Q17+R17 -> 24007.772
B18: =B17+1 -> 5 | D18: =J17-F18 -> 14051.052 | F18: =(I17*K16)/12 -> 7018.4465 | H18: =D18+F18 -> 21069.499 | I18: =I17-D18 -> 744699.92 | J18: =J17 -> 21069.499 | K18: =K17 -> 0.111 | O18: 5 | P18: =P17-Q18 -> 728920.88 | Q18: =Q17 -> 16951.648 | R18: =(((P17*$R$7/360))*$U$6) -> 6899.3209 | S18: =+Q18+R18 -> 23850.969
B19: =B18+1 -> 6 | D19: =J18-F19 -> 14181.024 | F19: =(I18*K17)/12 -> 6888.4743 | H19: =D19+F19 -> 21069.499 | I19: =I18-D19 -> 730518.9 | J19: =J18 -> 21069.499 | K19: =K18 -> 0.111 | O19: 6 | P19: =P18-Q19 -> 711969.23 | Q19: =Q18 -> 16951.648 | R19: =(((P18*$R$7/360))*$U$6) -> 6742.5182 | S19: =+Q19+R19 -> 23694.167
B20: =B19+1 -> 7 | D20: =J19-F20 -> 14312.199 | F20: =(I19*K18)/12 -> 6757.2998 | H20: =D20+F20 -> 21069.499 | I20: =I19-D20 -> 716206.7 | J20: =J19 -> 21069.499 | K20: =K19 -> 0.111 | O20: 7 | P20: =P19-Q20 -> 695017.59 | Q20: =Q19 -> 16951.648 | R20: =(((P19*$R$7/360))*$U$6) -> 6585.7154 | S20: =+Q20+R20 -> 23537.364
B21: =B20+1 -> 8 | D21: =J20-F21 -> 14444.587 | F21: =(I20*K19)/12 -> 6624.912 | H21: =D21+F21 -> 21069.499 | I21: =I20-D21 -> 701762.11 | J21: =J20 -> 21069.499 | K21: =K20 -> 0.111 | O21: 8 | P21: =P20-Q21 -> 678065.94 | Q21: =Q20 -> 16951.648 | R21: =(((P20*$R$7/360))*$U$6) -> 6428.9127 | S21: =+Q21+R21 -> 23380.561
B22: =B21+1 -> 9 | D22: =J21-F22 -> 14578.199 | F22: =(I21*K20)/12 -> 6491.2996 | H22: =D22+F22 -> 21069.499 | I22: =I21-D22 -> 687183.92 | J22: =J21 -> 21069.499 | K22: =K21 -> 0.111 | O22: 9 | P22: =P21-Q22 -> 661114.29 | Q22: =Q21 -> 16951.648 | R22: =(((P21*$R$7/360))*$U$6) -> 6272.1099 | S22: =+Q22+R22 -> 23223.758
B23: =B22+1 -> 10 | D23: =J22-F23 -> 14713.048 | F23: =(I22*K21)/12 -> 6356.4512 | H23: =D23+F23 -> 21069.499 | I23: =I22-D23 -> 672470.87 | J23: =J22 -> 21069.499 | K23: =K22 -> 0.111 | O23: 10 | P23: =P22-Q23 -> 644162.64 | Q23: =Q22 -> 16951.648 | R23: =(((P22*$R$7/360))*$U$6) -> 6115.3072 | S23: =+Q23+R23 -> 23066.956
B24: =B23+1 -> 11 | D24: =J23-F24 -> 14849.143 | F24: =(I23*K22)/12 -> 6220.3555 | H24: =D24+F24 -> 21069.499 | I24: =I23-D24 -> 657621.72 | J24: =J23 -> 21069.499 | K24: =K23 -> 0.111 | O24: 11 | P24: =P23-Q24 -> 627210.99 | Q24: =Q23 -> 16951.648 | R24: =(((P23*$R$7/360))*$U$6) -> 5958.5044 | S24: =+Q24+R24 -> 22910.153
B25: =B24+1 -> 12 | D25: =J24-F25 -> 14986.498 | F25: =(I24*K23)/12 -> 6083.001 | H25: =D25+F25 -> 21069.499 | I25: =I24-D25 -> 642635.23 | J25: =J24 -> 21069.499 | K25: =K24 -> 0.111 | O25: 12 | P25: =P24-Q25 -> 610259.34 | Q25: =Q24 -> 16951.648 | R25: =(((P24*$R$7/360))*$U$6) -> 5801.7017 | S25: =+Q25+R25 -> 22753.35
B26: =B25+1 -> 13 | D26: =J25-F26 -> 15125.123 | F26: =(I25*K24)/12 -> 5944.3758 | H26: =D26+F26 -> 21069.499 | I26: =I25-D26 -> 627510.1 | J26: =J25 -> 21069.499 | K26: =K25 -> 0.111 | O26: 13 | P26: =P25-Q26 -> 593307.7 | Q26: =Q25 -> 16951.648 | R26: =(((P25*$R$7/360))*$U$6) -> 5644.8989 | S26: =+Q26+R26 -> 22596.547
... B313: =B312+1 -> 300 | D313: =J312-F313 -> 212491.95 | F313: =(I312*K311)/12 -> -191422.45 | H313: =D313+F313 -> 21069.499 | I313: =I312-D313 -> -20906811 | J313: =J312 -> 21069.499 | K313: =K312 -> 0.111 | O313: 300 | P313: =P312-Q313 -> -4271815.4 | Q313: =Q312 -> 16951.648 | R313: =(((P312*$R$7/360))*$U$6) -> -39357.49 | S313: =+Q313+R313 -> -22405.841

Sheet PAGARÉ
C1: CREDITO HIPOTECARIO NACIONAL DE GUATEMALA
C2: GERENCIA DE CANALES DE COMERCIALIZACIÓN
C3: INFORME DE PRÉSTAMO AUTOLIQUIDABLE (BACK TO BACK)
B5: Fecha de la solicitud: | C5: =+'INFORMACION GENERAL'!B2 -> 45664 | F5: Agencia: | G5: =+'INFORMACION GENERAL'!B4 -> GAG AGENCIA CENTRAL
B7: DATOS GENERALES DEL DEUDOR
B9: Nombre de la Empresa: | C9: =+'INFORMACION GENERAL'!B13 -> GRUPO EXUMA, SOCIEDAD ANÓNIMA | H9: Representante Legal: | I9: =+'INFORMACION GENERAL'!B5 -> DORA PATRICIA JIMENEZ PINEDA
B10: Dirección: | C10: =+'INFORMACION GENERAL'!B8 -> 3RA. AVENIDA 54-7 COLONIA CASTAÑA, ZONA 11, GUATEMALA. | H10: DPI del RL: | I10: =+'INFORMACION GENERAL'!B9 -> 1642-15891-0101
H11: Municipio: | I11: =+'INFORMACION GENERAL'!B10 -> VILLA NUEVA
B12: NIT: | C12: =+'INFORMACION GENERAL'!B12 -> 11426690-5 | H12: Departamento: | I12: =+'INFORMACION GENERAL'!B11 -> GUATEMALA
B13: Fecha de inicio de operación: | C13: =+'INFORMACION GENERAL'!B15 -> 44721 | H13: Estado civil: | I13: =+'INFORMACION GENERAL'!B7 -> CASADA
H14: Edad: | I14: =+'INFORMACION GENERAL'!B6 -> 38
B17: GARANTÍA
B19: Tipo de Garantía: | C19: =+'INFORMACION GENERAL'!B30 -> CERTIFICADO PLAZO FIJO | F19: Plazo | G19: =+'INFORMACION GENERAL'!B34 -> 12 meses
B20: Cuenta: | C20: =+'INFORMACION GENERAL'!B31 -> 33-099-000329-0 | F20: Tasa de Interés: | H20: =+'INFORMACION GENERAL'!B35 -> 0.081
B21: Saldo: | C21: =+'INFORMACION GENERAL'!B32 -> 1622843.6 | F21: Fecha de Vencimiento: | H21: =+'INFORMACION GENERAL'!B36 -> 46001
B25: DICTAMEN
B27: Se considera atendible bajo las siguientes condiciones:
B29: Monto de crédito : | C29: =+'INFORMACION GENERAL'!B27 -> 813679.12 | F29: Gastos Administrativos: | H29: =+'INFORMACION GENERAL'!B26 -> 2029.125
B30: Destino: | C30: =+'INFORMACION GENERAL'!B24 -> CAPITAL DE TRABAJO | F30: Fecha de Vencimiento: | H30: =+'INFORMACION GENERAL'!B25 -> 47125
B31: Garantía: | C31: =+'INFORMACION GENERAL'!B30 -> CERTIFICADO PLAZO FIJO | F31: Cuota: | H31: =+CUOTAS!S7 -> 24478.18
B32: Plazo en Meses: | C32: =+'INFORMACION GENERAL'!B18 -> 48 | F32: Tipo de Cuota: | H32: =+'INFORMACION GENERAL'!B23 -> CUOTA SOBRESALDOS
B33: Tasa de Interés: | C33: =+'INFORMACION GENERAL'!B20 -> 0.111 | F33: Tasa por mora: | H33: =+'INFORMACION GENERAL'!B22 -> 0.161
B34: Tipo de amortización | C34: =+'INFORMACION GENERAL'!B21 -> PAGADERO MEDIANTE CAPITAL E INTERESES MENSUALES Y SALDO AL VENCIMIENTO
B35: Calificación del cliente: | C35: =+'INFORMACION GENERAL'!B37 -> A "DE RIESGO NORMAL"
B36: Forma de desembolso: | D36: Acreditar a cuenta monetaria | G36: =+'INFORMACION GENERAL'!B39 -> 08-099-000047-6
H38: =+'INFORMACION GENERAL'!B38 -> 811650
D39: Total a desembolsar | H39: =SUM(H38:H38) -> 811650
C46: Elaborado por:
D47: =+'INFORMACION GENERAL'!F17 -> Cristian Alejandro Gaitán Castro
D48: =+'INFORMACION GENERAL'!F18 -> Asesor de Negocios
D49: =+'INFORMACION GENERAL'!F19 -> Agencia Central
B57: Autorizado por:
C58: =+'INFORMACION GENERAL'!F29 -> ING. LUIS FERNANDO PELÁEZ GUERRA | H58: =+'INFORMACION GENERAL'!F37 -> -
C59: =+'INFORMACION GENERAL'!F30 -> GERENTE DE BANCA PERSONAS | H59: =+'INFORMACION GENERAL'!F38 -> -
